BEGIN:VCALENDAR
VERSION:2.0
PRODID:-//wp-events-plugin.com//6.6.3//EN
BEGIN:VEVENT
UID:812@gerloff.co.il
DTSTART;VALUE=DATE:20261111
DTEND;VALUE=DATE:20261116
DTSTAMP:20260224T081347Z
URL:https://gerloff.co.il/events/ch_rea_israel/
SUMMARY:Herbsttournee rea ISRAEL in der Schweiz
DESCRIPTION:mehr Infos bei Silas Wenger\, silas.wenger@rea-israel.ch\, +41 
 (62) 8499390\n\n
CATEGORIES:deutschsprachige Veranstaltung
END:VEVENT
END:VCALENDAR