BEGIN:VCALENDAR
VERSION:2.0
PRODID:-//wp-events-plugin.com//6.6.3//EN
BEGIN:VEVENT
UID:818@gerloff.co.il
DTSTART;VALUE=DATE:20270316
DTEND;VALUE=DATE:20270317
DTSTAMP:20260224T081524Z
URL:https://gerloff.co.il/events/270316ab-verband/
SUMMARY:Pastorenkonferenz des Ev. Gemeinschaftsverbands AB
DESCRIPTION:Kontakt: Priscilla Knoll\, +49 (176) 64970102\, Priscilla.Knoll
 @ab-verband.org\n\n
CATEGORIES:deutschsprachige Veranstaltung
LOCATION:Bibelheim Bethanien\, Römerstraße 30\, Karlsbad\, 76307 \, Deuts
 chland
GEO:48.908084;8.496485
X-APPLE-STRUCTURED-LOCATION;VALUE=URI;X-ADDRESS=Römerstraße 30\, Karlsbad
 \, 76307 \, Deutschland;X-APPLE-RADIUS=100;X-TITLE=Bibelheim Bethanien:geo
 :48.908084,8.496485
END:VEVENT
END:VCALENDAR