BEGIN:VCALENDAR
VERSION:2.0
PRODID:-//wp-events-plugin.com//6.6.3//EN
BEGIN:VEVENT
UID:759@gerloff.co.il
DTSTART;VALUE=DATE:20270201
DTEND;VALUE=DATE:20270206
DTSTAMP:20260423T110453Z
URL:https://gerloff.co.il/events/2702abs/
SUMMARY:Bibelintensivkurs
DESCRIPTION:mehr Infos bei:\n\n&nbsp\;\n\n
CATEGORIES:Seminar
LOCATION:Eyal Hotel by Smart Hotels\, Shamai St 21\, Jerusalem\, Israel
GEO:31.781349;35.218914
X-APPLE-STRUCTURED-LOCATION;VALUE=URI;X-ADDRESS=Shamai St 21\, Jerusalem\, 
 Israel;X-APPLE-RADIUS=100;X-TITLE=Eyal Hotel by Smart Hotels:geo:31.781349
 ,35.218914
END:VEVENT
END:VCALENDAR