BEGIN:VCALENDAR
VERSION:2.0
PRODID:-//wp-events-plugin.com//6.6.3//EN
BEGIN:VEVENT
UID:819@gerloff.co.il
DTSTART;VALUE=DATE:20261022
DTEND;VALUE=DATE:20261026
DTSTAMP:20260224T080956Z
URL:https://gerloff.co.il/events/2610ghi/
SUMMARY:Seminar mit der "Gemeindehilfe Israel"
DESCRIPTION:weitere Infos bei Christian Meier\, christian.meier@ghi-acmi.ch
 \n\n
CATEGORIES:Seminar
LOCATION:sbt Beatenberg Gästehaus\, Spirenwaldstrasse 356\, Beatenberg\, 3
 803\, Schweiz
GEO:46.696679;7.792645
X-APPLE-STRUCTURED-LOCATION;VALUE=URI;X-ADDRESS=Spirenwaldstrasse 356\, Bea
 tenberg\, 3803\, Schweiz;X-APPLE-RADIUS=100;X-TITLE=sbt Beatenberg Gästeh
 aus:geo:46.696679,7.792645
END:VEVENT
END:VCALENDAR