BEGIN:VCALENDAR
VERSION:2.0
PRODID:-//wp-events-plugin.com//6.6.3//EN
BEGIN:VEVENT
UID:810@gerloff.co.il
DTSTART:20261026T200000Z
DTEND:20261026T213000Z
DTSTAMP:20260104T123912Z
URL:https://gerloff.co.il/events/261026roethenbach/
SUMMARY:Vortrag
DESCRIPTION:weitere Infos: Herbert &amp\; Katharina Held\, +41 (34) 4911413
 \, herbert.held@bluewin.ch\n\n
CATEGORIES:deutschsprachige Veranstaltung
LOCATION:Hübeli 33\, Hübeli 33\, Röthenbach im Emmental\, 3538\, Schweiz
GEO:46.853412;7.742216
X-APPLE-STRUCTURED-LOCATION;VALUE=URI;X-ADDRESS=Hübeli 33\, Röthenbach im
  Emmental\, 3538\, Schweiz;X-APPLE-RADIUS=100;X-TITLE=Hübeli 33:geo:46.85
 3412,7.742216
END:VEVENT
END:VCALENDAR