BEGIN:VCALENDAR
VERSION:2.0
PRODID:-//wp-events-plugin.com//6.6.3//EN
BEGIN:VEVENT
UID:783@gerloff.co.il
DTSTART;VALUE=DATE:20260605
DTEND;VALUE=DATE:20260607
DTSTAMP:20260224T081317Z
URL:https://gerloff.co.il/events/260605krelingen/
SUMMARY:Israelkongress
DESCRIPTION:nähere Infos unter:\n\n
CATEGORIES:deutschsprachige Veranstaltung
LOCATION:GRZ Krelingen\, Krelingen 37\, Walsrode\, 29664\, Deutschland
GEO:52.803996;9.659046
X-APPLE-STRUCTURED-LOCATION;VALUE=URI;X-ADDRESS=Krelingen 37\, Walsrode\, 2
 9664\, Deutschland;X-APPLE-RADIUS=100;X-TITLE=GRZ Krelingen:geo:52.803996,
 9.659046
END:VEVENT
END:VCALENDAR