BEGIN:VCALENDAR
VERSION:2.0
PRODID:-//wp-events-plugin.com//6.6.3//EN
BEGIN:VEVENT
UID:824@gerloff.co.il
DTSTART:20260603T113000Z
DTEND:20260603T124500Z
DTSTAMP:20260423T114023Z
URL:https://gerloff.co.il/events/260603bielefeld/
SUMMARY:Ist Israel selbst schuld?
DESCRIPTION:mehr Infos bei Jakob Peters\, jakob.peters@gms-net.de\, +49 (52
 1) 9229480\n\noder unter\n\n
CATEGORIES:deutschsprachige Veranstaltung
LOCATION:Georg-Müller-Schule\, Detmolder Str. 284\, Bielefeld\, 33605\, De
 utschland
GEO:52.001921;8.567713
X-APPLE-STRUCTURED-LOCATION;VALUE=URI;X-ADDRESS=Detmolder Str. 284\, Bielef
 eld\, 33605\, Deutschland;X-APPLE-RADIUS=100;X-TITLE=Georg-Müller-Schule:
 geo:52.001921,8.567713
END:VEVENT
END:VCALENDAR