BEGIN:VCALENDAR
VERSION:2.0
PRODID:-//wp-events-plugin.com//6.6.3//EN
BEGIN:VEVENT
UID:823@gerloff.co.il
DTSTART:20260602T193000Z
DTEND:20260602T210000Z
DTSTAMP:20260423T112154Z
URL:https://gerloff.co.il/events/260602bielefeld/
SUMMARY:Ist die Geschichte des modernen Israels (auch) Gottes Geschichte?
DESCRIPTION:mehr Infos bei Jakob Peters\, jakob.peters@gms-net.de\, +49 (52
 1) 9229480\n\noder unter\n\n
CATEGORIES:deutschsprachige Veranstaltung
LOCATION:Freie evangelische Gemeinde Bielefeld\, Lipper Hellweg 271\, Biele
 feld\, 33605 \, Deutschland
GEO:51.992649;8.59053
X-APPLE-STRUCTURED-LOCATION;VALUE=URI;X-ADDRESS=Lipper Hellweg 271\, Bielef
 eld\, 33605 \, Deutschland;X-APPLE-RADIUS=100;X-TITLE=Freie evangelische G
 emeinde Bielefeld:geo:51.992649,8.59053
END:VEVENT
END:VCALENDAR