BEGIN:VCALENDAR
VERSION:2.0
PRODID:-//wp-events-plugin.com//6.6.3//EN
BEGIN:VEVENT
UID:817@gerloff.co.il
DTSTART:20260601T193000Z
DTEND:20260601T210000Z
DTSTAMP:20260222T143046Z
URL:https://gerloff.co.il/events/260601giessen/
SUMMARY:Ein Blick auf Israel – und ein offenes Gespräch über die Lage i
 m Nahen Osten
DESCRIPTION:weitere Infos bei Gabriel Höll\, +49 (160) 8551983\, gabriel.
 hoell@efg-giessen.de\n\n
CATEGORIES:deutschsprachige Veranstaltung
LOCATION:Evangelisch-Freikirchliche Gemeinde\, Marburger Str. 37\, Gießen\
 , 35390 \, Deutschland
GEO:50.593926;8.679753
X-APPLE-STRUCTURED-LOCATION;VALUE=URI;X-ADDRESS=Marburger Str. 37\, Gießen
 \, 35390 \, Deutschland;X-APPLE-RADIUS=100;X-TITLE=Evangelisch-Freikirchli
 che Gemeinde:geo:50.593926,8.679753
END:VEVENT
END:VCALENDAR