BEGIN:VCALENDAR
VERSION:2.0
PRODID:-//wp-events-plugin.com//6.6.3//EN
BEGIN:VEVENT
UID:779@gerloff.co.il
DTSTART:20260531T103000Z
DTEND:20260531T120000Z
DTSTAMP:20250324T131229Z
URL:https://gerloff.co.il/events/260531gusternhain/
SUMMARY:Predigt im Gottesdienst
DESCRIPTION:mehr Infos bei Matthias Maier\, +49 (160) 97330305\, maier@ma
 ier-objektdesign.de\n\noder unter:\n\n
CATEGORIES:deutschsprachige Veranstaltung
LOCATION:EFG Gusternhain\, Am Berg 20\, Gusternhain\, 35767 \, Deutschland
GEO:50.66738789999999;8.174533600000018
X-APPLE-STRUCTURED-LOCATION;VALUE=URI;X-ADDRESS=Am Berg 20\, Gusternhain\, 
 35767 \, Deutschland;X-APPLE-RADIUS=100;X-TITLE=EFG Gusternhain:geo:50.667
 38789999999,8.174533600000018
END:VEVENT
END:VCALENDAR