BEGIN:VCALENDAR
VERSION:2.0
PRODID:-//wp-events-plugin.com//6.6.3//EN
BEGIN:VEVENT
UID:788@gerloff.co.il
DTSTART:20260519T193000Z
DTEND:20260519T210000Z
DTSTAMP:20250604T154058Z
URL:https://gerloff.co.il/events/260519steinheim/
SUMMARY:Die Bedeutung Israels für die christliche Gemeinde vor Ort
DESCRIPTION:mehr Infos bei:\n\n
CATEGORIES:deutschsprachige Veranstaltung
LOCATION:St. Martinskirche Steinheim\, Unterer Kirchweg 2\, Memmingen-Stein
 heim\, 87700 \, Deutschland
GEO:48.015221;10.161863
X-APPLE-STRUCTURED-LOCATION;VALUE=URI;X-ADDRESS=Unterer Kirchweg 2\, Memmin
 gen-Steinheim\, 87700 \, Deutschland;X-APPLE-RADIUS=100;X-TITLE=St. Martin
 skirche Steinheim:geo:48.015221,10.161863
END:VEVENT
END:VCALENDAR