BEGIN:VCALENDAR
VERSION:2.0
PRODID:-//wp-events-plugin.com//6.6.3//EN
BEGIN:VEVENT
UID:813@gerloff.co.il
DTSTART:20260518T193000Z
DTEND:20260518T210000Z
DTSTAMP:20260216T084041Z
URL:https://gerloff.co.il/events/260518kempten/
SUMMARY:Israel: Zwischen Kritik und Antisemitismus – ein Perspektivwechse
 l\, mit Blick der Menschen vor Ort
DESCRIPTION:Kontakt: Walter Grün\, walter.gruen@cmc-gruen.de
CATEGORIES:deutschsprachige Veranstaltung
LOCATION:Kornhaus Kempten\, Großer Kornhauspl. 1\, Kempten \, 87439 \, Deu
 tschland
GEO:47.72877;10.309789
X-APPLE-STRUCTURED-LOCATION;VALUE=URI;X-ADDRESS=Großer Kornhauspl. 1\, Kem
 pten \, 87439 \, Deutschland;X-APPLE-RADIUS=100;X-TITLE=Kornhaus Kempten:g
 eo:47.72877,10.309789
END:VEVENT
END:VCALENDAR