BEGIN:VCALENDAR
VERSION:2.0
PRODID:-//wp-events-plugin.com//6.6.3//EN
BEGIN:VEVENT
UID:765@gerloff.co.il
DTSTART:20260517T140000Z
DTEND:20260517T153000Z
DTSTAMP:20250209T151142Z
URL:https://gerloff.co.il/events/260517femg/
SUMMARY:Aktuelles aus Israel
DESCRIPTION:mehr Infos be Markus Maurer\, mmaurer@gmx.net\, +49 (151) 20305
 622\n\noder unter\n\n
CATEGORIES:deutschsprachige Veranstaltung
LOCATION:FEMG Göppingen-Manzen\, Schieferstr. 20\, Göppingen\, 73037 \, D
 eutschland
GEO:48.672841;9.694146
X-APPLE-STRUCTURED-LOCATION;VALUE=URI;X-ADDRESS=Schieferstr. 20\, Göppinge
 n\, 73037 \, Deutschland;X-APPLE-RADIUS=100;X-TITLE=FEMG Göppingen-Manzen
 :geo:48.672841,9.694146
END:VEVENT
END:VCALENDAR