BEGIN:VCALENDAR
VERSION:2.0
PRODID:-//wp-events-plugin.com//6.6.3//EN
BEGIN:VEVENT
UID:762@gerloff.co.il
DTSTART:20260517T183000Z
DTEND:20260517T200000Z
DTSTAMP:20250209T152901Z
URL:https://gerloff.co.il/events/2605171830goeppingen/
SUMMARY:Vortrag
DESCRIPTION:mehr Infos bei Ulrich Straub\, Lebendige Gemeinde im Dekanatsbe
 zirk Geislingen-Göppingen\, eustraub@gmx.de\n\noder unter\n\n
CATEGORIES:deutschsprachige Veranstaltung
LOCATION:Blumhardthaus\, Immanuel-Hohlbauch-Str. 26\, Göppingen\, 73033 \,
  Deutschland
GEO:48.711762;9.635483
X-APPLE-STRUCTURED-LOCATION;VALUE=URI;X-ADDRESS=Immanuel-Hohlbauch-Str. 26\
 , Göppingen\, 73033 \, Deutschland;X-APPLE-RADIUS=100;X-TITLE=Blumhardtha
 us:geo:48.711762,9.635483
END:VEVENT
END:VCALENDAR